BEGIN:VCALENDAR
VERSION:2.0
PRODID:-//Everything Elko - ECPv6.15.20//NONSGML v1.0//EN
CALSCALE:GREGORIAN
METHOD:PUBLISH
X-WR-CALNAME:Everything Elko
X-ORIGINAL-URL:https://everythingelko.com
X-WR-CALDESC:Events for Everything Elko
REFRESH-INTERVAL;VALUE=DURATION:PT1H
X-Robots-Tag:noindex
X-PUBLISHED-TTL:PT1H
BEGIN:VTIMEZONE
TZID:UTC
BEGIN:STANDARD
TZOFFSETFROM:+0000
TZOFFSETTO:+0000
TZNAME:UTC
DTSTART:19690101T000000
END:STANDARD
END:VTIMEZONE
BEGIN:VEVENT
DTSTART;TZID=UTC:20260424T101606
DTEND;TZID=UTC:20260417T074500
DTSTAMP:20260424T101606
CREATED:20260401T010825Z
LAST-MODIFIED:20260401T010825Z
UID:21092-0-1776411900@everythingelko.com
SUMMARY:Sunrise Toastmasters on Zoom
DESCRIPTION:Sunrise Toastmasters on Zoom \nFriday\, April 17\, 6:35-7:45AM \nFEAR of Snakes? FEAR of Heights? FEAR of Death!   No\, Americans’ number one fear is Speaking in Public!  Sunrise Toastmasters will help you overcome your fear of speaking in public through a proven step-by-step program of learning and practicing speaking in a safe environment with people just like you.  Communication is the key to success in the workplace\, in the home\, and in all life situations.  We meet every Friday at 6:35 a.m. to 7:45 a.m.\, ONLY on Zoom through the winter.  Contact George Kleeb 775.385.6114 or Helen Hankins 775.340.2031 or Pam Lattin 775.934.1934 for Zoom login information.
URL:https://everythingelko.com/event/sunrise-toastmasters-on-zoom-180/
LOCATION:Elko\, Nevada
END:VEVENT
BEGIN:VEVENT
DTSTART;TZID=UTC:20260217T173000
DTEND;TZID=UTC:20260217T190000
DTSTAMP:20260424T101606
CREATED:20260124T185334Z
LAST-MODIFIED:20260124T185334Z
UID:20847-1771349400-1771354800@everythingelko.com
SUMMARY:Carlin Historical Society Meeting
DESCRIPTION:Carlin Historical Society Meeting – Carlin \nTuesday\, February 17 from 5:30-7:00pm \nThe Carlin Historical Society and Museum holds its monthly meeting on the 3rd Tuesday of each month at 5:30 PM. The meeting is held in the Carlin Museum at 718 Cedar St Carlin\, NV. Those who are interested in preserving local history are welcome to attend.
URL:https://everythingelko.com/event/carlin-historical-society-meeting-22/
LOCATION:Carlin\, NV
END:VEVENT
BEGIN:VEVENT
DTSTART;TZID=UTC:20260217T180000
DTEND;TZID=UTC:20260217T190000
DTSTAMP:20260424T101606
CREATED:20260124T185615Z
LAST-MODIFIED:20260124T185615Z
UID:20849-1771351200-1771354800@everythingelko.com
SUMMARY:Horizon Hospice Grief Support Group
DESCRIPTION:Horizon Hospice Grief Support Group \nTuesday\, February 17\, from 6-7:00pm \nJoin us at Horizon Hospice for our regular support groups at the Horizon Center located at 250 Lamoille Hwy Suite 413 Elko. This is free of charge and anyone can join. A light snack with dessert is provided. Email questions to horizonhospice@outlook.com
URL:https://everythingelko.com/event/horizon-hospice-grief-support-group-28/
LOCATION:Elko\, Nevada
END:VEVENT
BEGIN:VEVENT
DTSTART;TZID=UTC:20260217T180000
DTEND;TZID=UTC:20260217T190000
DTSTAMP:20260424T101606
CREATED:20260124T185853Z
LAST-MODIFIED:20260124T185853Z
UID:20852-1771351200-1771354800@everythingelko.com
SUMMARY:NAMI Family Support Group 
DESCRIPTION:NAMI Family Support Group  \nTuesday\, February 17\, 6-7:00pm\nFor adult loved ones of people with mental health conditions. Led by family members of people with mental health conditions. Meets the 3rd Tuesday of every month at 6:00pm via Zoom. Contact Haley\, 775-299-2837 with questions and to get involved.
URL:https://everythingelko.com/event/nami-family-support-group-38/
LOCATION:Elko\, Nevada
END:VEVENT
BEGIN:VEVENT
DTSTART;TZID=UTC:20260217T180000
DTEND;TZID=UTC:20260217T190000
DTSTAMP:20260424T101606
CREATED:20260124T190339Z
LAST-MODIFIED:20260124T190339Z
UID:20854-1771351200-1771354800@everythingelko.com
SUMMARY:Al-Anon Hybrid Meetings - Spring Creek
DESCRIPTION:Al-Anon Hybrid Meetings – Spring Creek \nTuesday\, February 17 from 6-7:00pm \nAl-Anon Hybrid Meetings (choose in-person or virtual).  Spring Creek Step Study Group meets Tuesdays from 6-7 p.m. at the Spring Creek Baptist Church\, 360 Spring Creek Parkway.  If you or someone you know is worried about a family member or friend’s drinking problem\, Al-Anon group offers mutual support by sharing experiences\, strengths\, and hope. Please call 775-843-1710 for more information.
URL:https://everythingelko.com/event/al-anon-hybrid-meetings-spring-creek-48/
LOCATION:Elko\, Nevada
END:VEVENT
END:VCALENDAR