BEGIN:VCALENDAR
VERSION:2.0
PRODID:-//Everything Elko - ECPv6.15.20//NONSGML v1.0//EN
CALSCALE:GREGORIAN
METHOD:PUBLISH
X-ORIGINAL-URL:https://everythingelko.com
X-WR-CALDESC:Events for Everything Elko
REFRESH-INTERVAL;VALUE=DURATION:PT1H
X-Robots-Tag:noindex
X-PUBLISHED-TTL:PT1H
BEGIN:VTIMEZONE
TZID:UTC
BEGIN:STANDARD
TZOFFSETFROM:+0000
TZOFFSETTO:+0000
TZNAME:UTC
DTSTART:19690101T000000
END:STANDARD
END:VTIMEZONE
BEGIN:VEVENT
DTSTART;TZID=UTC:20260422T165531
DTEND;TZID=UTC:20260417T074500
DTSTAMP:20260422T165531
CREATED:20260401T010825Z
LAST-MODIFIED:20260401T010825Z
UID:21092-0-1776411900@everythingelko.com
SUMMARY:Sunrise Toastmasters on Zoom
DESCRIPTION:Sunrise Toastmasters on Zoom \nFriday\, April 17\, 6:35-7:45AM \nFEAR of Snakes? FEAR of Heights? FEAR of Death!   No\, Americans’ number one fear is Speaking in Public!  Sunrise Toastmasters will help you overcome your fear of speaking in public through a proven step-by-step program of learning and practicing speaking in a safe environment with people just like you.  Communication is the key to success in the workplace\, in the home\, and in all life situations.  We meet every Friday at 6:35 a.m. to 7:45 a.m.\, ONLY on Zoom through the winter.  Contact George Kleeb 775.385.6114 or Helen Hankins 775.340.2031 or Pam Lattin 775.934.1934 for Zoom login information.
URL:https://everythingelko.com/event/sunrise-toastmasters-on-zoom-180/
LOCATION:Elko\, Nevada
END:VEVENT
BEGIN:VEVENT
DTSTART;VALUE=DATE:20251203
DTEND;VALUE=DATE:20251207
DTSTAMP:20260422T165531
CREATED:20251130T212833Z
LAST-MODIFIED:20251130T212833Z
UID:20676-1764720000-1765065599@everythingelko.com
SUMMARY:Festival of Trees
DESCRIPTION:Festival of Trees \nWednesday\, December 3-Saturday\, December 6 \nJoin us for one of Elko’s most beloved holiday traditions — the Annual Festival of Trees\, themed “12 Days of Christmas.” Step into a winter wonderland filled with beautifully decorated trees\, sparkling lights\, and the joyful spirit of giving. Enjoy new holiday performances at the Laurena Moren Theater on December 3rd from 6PM–8PM\, and explore the stunning tree displays during our Festival of Trees Viewing at the Elko Conference Center\, 724 Moren Way: December 3rd: 8AM–9PM December 4th: 8AM–6PM December 5th: 8AM–7PM December 6th: 9AM–3PM. Don’t miss a special visit from Santa & Mrs. Claus on Friday (2PM–6PM) and Saturday (10AM–2PM) — perfect for festive family photos! Come celebrate the holidays\, support your community\, and make merry memories at this year’s Festival of Trees!
URL:https://everythingelko.com/event/festival-of-trees-5/
LOCATION:Elko\, Nevada
END:VEVENT
BEGIN:VEVENT
DTSTART;TZID=UTC:20251205T063500
DTEND;TZID=UTC:20251205T074500
DTSTAMP:20260422T165531
CREATED:20251130T213107Z
LAST-MODIFIED:20251130T213107Z
UID:20684-1764916500-1764920700@everythingelko.com
SUMMARY:Sunrise Toastmasters on Zoom
DESCRIPTION:Sunrise Toastmasters on Zoom \nFriday\, December 5\, 6:35-7:45am \nFEAR of Snakes? FEAR of Heights? FEAR of Death!   No\, Americans’ number one fear is Speaking in Public!  Sunrise Toastmasters will help you overcome your fear of speaking in public through a proven step-by-step program of learning and practicing speaking in a safe environment with people just like you.  Communication is the key to success in the workplace\, in the home\, and in all life situations.  We meet every Friday at 6:35 a.m. to 7:45 a.m.\, ONLY on Zoom through the winter.  Contact George Kleeb 775.385.6114 or Helen Hankins 775.340.2031 or Pam Lattin 775.934.1934 for Zoom login information.
URL:https://everythingelko.com/event/sunrise-toastmasters-on-zoom-164/
LOCATION:Elko\, Nevada
END:VEVENT
BEGIN:VEVENT
DTSTART;TZID=UTC:20251205T123000
DTEND;TZID=UTC:20251205T140000
DTSTAMP:20260422T165531
CREATED:20251130T213143Z
LAST-MODIFIED:20251130T213143Z
UID:20686-1764937800-1764943200@everythingelko.com
SUMMARY:Ruby Mountain Square Dance Club
DESCRIPTION:Ruby Mountain Square Dance Club \nFriday\, December 5\, 12:30-2:00pm \nThe Elko Senior Center at 1795 Ruby View Drive is inviting everyone\, from 8-90 years of age to join the Ruby Mountain Square Dance Club members in light walking exercises to music from 12:30-2pm on Fridays. Home schooled children and Public schooled children with their teachers or parents are also invited to learn to Square dance at this time. Questions: Dixie 775-934-6225
URL:https://everythingelko.com/event/ruby-mountain-square-dance-club-22/
LOCATION:Elko\, Nevada
END:VEVENT
END:VCALENDAR