BEGIN:VCALENDAR
VERSION:2.0
PRODID:-//Everything Elko - ECPv6.15.20//NONSGML v1.0//EN
CALSCALE:GREGORIAN
METHOD:PUBLISH
X-ORIGINAL-URL:https://everythingelko.com
X-WR-CALDESC:Events for Everything Elko
REFRESH-INTERVAL;VALUE=DURATION:PT1H
X-Robots-Tag:noindex
X-PUBLISHED-TTL:PT1H
BEGIN:VTIMEZONE
TZID:UTC
BEGIN:STANDARD
TZOFFSETFROM:+0000
TZOFFSETTO:+0000
TZNAME:UTC
DTSTART:19690101T000000
END:STANDARD
END:VTIMEZONE
BEGIN:VEVENT
DTSTART;TZID=UTC:20260423T051013
DTEND;TZID=UTC:20260417T074500
DTSTAMP:20260423T051013
CREATED:20260401T010825Z
LAST-MODIFIED:20260401T010825Z
UID:21092-0-1776411900@everythingelko.com
SUMMARY:Sunrise Toastmasters on Zoom
DESCRIPTION:Sunrise Toastmasters on Zoom \nFriday\, April 17\, 6:35-7:45AM \nFEAR of Snakes? FEAR of Heights? FEAR of Death!   No\, Americans’ number one fear is Speaking in Public!  Sunrise Toastmasters will help you overcome your fear of speaking in public through a proven step-by-step program of learning and practicing speaking in a safe environment with people just like you.  Communication is the key to success in the workplace\, in the home\, and in all life situations.  We meet every Friday at 6:35 a.m. to 7:45 a.m.\, ONLY on Zoom through the winter.  Contact George Kleeb 775.385.6114 or Helen Hankins 775.340.2031 or Pam Lattin 775.934.1934 for Zoom login information.
URL:https://everythingelko.com/event/sunrise-toastmasters-on-zoom-180/
LOCATION:Elko\, Nevada
END:VEVENT
BEGIN:VEVENT
DTSTART;TZID=UTC:20250614T110000
DTEND;TZID=UTC:20250614T190000
DTSTAMP:20260423T051013
CREATED:20250526T194054Z
LAST-MODIFIED:20250526T194054Z
UID:20065-1749898800-1749927600@everythingelko.com
SUMMARY:Truck Yeah\, It’s Father’s Day
DESCRIPTION:Truck Yeah\, It’s Father’s Day – Carlin \nSaturday\, June 14\, 11:00am-7:00pm \nTruck Yea\, It’s Father’s Day is a free community event located at Carlin at the City Park 182 B Street. There will be food trucks and vendors available for purchase.
URL:https://everythingelko.com/event/truck-yeah-its-fathers-day/
LOCATION:Carlin\, NV
END:VEVENT
BEGIN:VEVENT
DTSTART;TZID=UTC:20250614T160000
DTEND;TZID=UTC:20250614T190000
DTSTAMP:20260423T051013
CREATED:20250526T194445Z
LAST-MODIFIED:20250526T194445Z
UID:20067-1749916800-1749927600@everythingelko.com
SUMMARY:Sippin Saturdays Series: Island Breeze Cocktail Walk
DESCRIPTION:Sippin Saturdays Series: Island Breeze Cocktail Walk \nSaturday\, June 14\, 4-7:00pm \nJoin the Elko Area Chamber for the 2025 Sippin Saturdays Series with the Island Breeze Cocktail Walk. Purchase your glass for $30 at Rubies in Elko and then stroll downtown Elko businesses as you enjoy a variety of beachy cocktails. Dress in your best island attire. This is a 21+ event. Last sales at 6:30 p.m. For more information contact the Chamber at 775-738-7135
URL:https://everythingelko.com/event/sippin-saturdays-series-island-breeze-cocktail-walk/
LOCATION:Elko\, Nevada
END:VEVENT
END:VCALENDAR