BEGIN:VCALENDAR
VERSION:2.0
PRODID:-//Everything Elko - ECPv6.15.20//NONSGML v1.0//EN
CALSCALE:GREGORIAN
METHOD:PUBLISH
X-WR-CALNAME:Everything Elko
X-ORIGINAL-URL:https://everythingelko.com
X-WR-CALDESC:Events for Everything Elko
REFRESH-INTERVAL;VALUE=DURATION:PT1H
X-Robots-Tag:noindex
X-PUBLISHED-TTL:PT1H
BEGIN:VTIMEZONE
TZID:UTC
BEGIN:STANDARD
TZOFFSETFROM:+0000
TZOFFSETTO:+0000
TZNAME:UTC
DTSTART:19690101T000000
END:STANDARD
END:VTIMEZONE
BEGIN:VEVENT
DTSTART;TZID=UTC:20260423T231042
DTEND;TZID=UTC:20260417T074500
DTSTAMP:20260423T231042
CREATED:20260401T010825Z
LAST-MODIFIED:20260401T010825Z
UID:21092-0-1776411900@everythingelko.com
SUMMARY:Sunrise Toastmasters on Zoom
DESCRIPTION:Sunrise Toastmasters on Zoom \nFriday\, April 17\, 6:35-7:45AM \nFEAR of Snakes? FEAR of Heights? FEAR of Death!   No\, Americans’ number one fear is Speaking in Public!  Sunrise Toastmasters will help you overcome your fear of speaking in public through a proven step-by-step program of learning and practicing speaking in a safe environment with people just like you.  Communication is the key to success in the workplace\, in the home\, and in all life situations.  We meet every Friday at 6:35 a.m. to 7:45 a.m.\, ONLY on Zoom through the winter.  Contact George Kleeb 775.385.6114 or Helen Hankins 775.340.2031 or Pam Lattin 775.934.1934 for Zoom login information.
URL:https://everythingelko.com/event/sunrise-toastmasters-on-zoom-180/
LOCATION:Elko\, Nevada
END:VEVENT
BEGIN:VEVENT
DTSTART;TZID=UTC:20241005T080000
DTEND;TZID=UTC:20241005T170000
DTSTAMP:20260423T231042
CREATED:20240929T225652Z
LAST-MODIFIED:20240929T233217Z
UID:19066-1728115200-1728147600@everythingelko.com
SUMMARY:Harvest Festival
DESCRIPTION:Harvest Festival \nSaturday\, October 5\, 8:00am-3:00pm \nThe 29th Annual Harvest Festival will be held Saturday October 5th from 8:00am-3:00pm at the Ranchers Center in Lamoille. There will be handcrafted items for sale\, including quilts\, cards\, lotions and soaps\, fiber arts\, paintings and prints\, and jewelry. The Lamoille Farmers Market will also be there as well as food\, live music\, and a petting zoo. Come out and enjoy a beautiful fall day at the base of the Ruby Mountains in Lamoille. For questions contact Susan Lawrence at 775-397-1477.
URL:https://everythingelko.com/event/harvest-festival/
LOCATION:Elko\, Nevada
END:VEVENT
END:VCALENDAR