BEGIN:VCALENDAR
VERSION:2.0
PRODID:-//Everything Elko - ECPv6.15.20//NONSGML v1.0//EN
CALSCALE:GREGORIAN
METHOD:PUBLISH
X-WR-CALNAME:Everything Elko
X-ORIGINAL-URL:https://everythingelko.com
X-WR-CALDESC:Events for Everything Elko
REFRESH-INTERVAL;VALUE=DURATION:PT1H
X-Robots-Tag:noindex
X-PUBLISHED-TTL:PT1H
BEGIN:VTIMEZONE
TZID:UTC
BEGIN:STANDARD
TZOFFSETFROM:+0000
TZOFFSETTO:+0000
TZNAME:UTC
DTSTART:19690101T000000
END:STANDARD
END:VTIMEZONE
BEGIN:VEVENT
DTSTART;TZID=UTC:20260423T230331
DTEND;TZID=UTC:20260417T074500
DTSTAMP:20260423T230331
CREATED:20260401T010825Z
LAST-MODIFIED:20260401T010825Z
UID:21092-0-1776411900@everythingelko.com
SUMMARY:Sunrise Toastmasters on Zoom
DESCRIPTION:Sunrise Toastmasters on Zoom \nFriday\, April 17\, 6:35-7:45AM \nFEAR of Snakes? FEAR of Heights? FEAR of Death!   No\, Americans’ number one fear is Speaking in Public!  Sunrise Toastmasters will help you overcome your fear of speaking in public through a proven step-by-step program of learning and practicing speaking in a safe environment with people just like you.  Communication is the key to success in the workplace\, in the home\, and in all life situations.  We meet every Friday at 6:35 a.m. to 7:45 a.m.\, ONLY on Zoom through the winter.  Contact George Kleeb 775.385.6114 or Helen Hankins 775.340.2031 or Pam Lattin 775.934.1934 for Zoom login information.
URL:https://everythingelko.com/event/sunrise-toastmasters-on-zoom-180/
LOCATION:Elko\, Nevada
END:VEVENT
BEGIN:VEVENT
DTSTART;VALUE=DATE:20240824
DTEND;VALUE=DATE:20240926
DTSTAMP:20260423T230331
CREATED:20240726T185735Z
LAST-MODIFIED:20240726T185735Z
UID:18824-1724457600-1727308799@everythingelko.com
SUMMARY:Elko County Fair
DESCRIPTION:Elko County Fair \nAugust 24-25\, 30-31\, Sep. 1 \nElko County Fairgrounds. \nwww.elkocountyfair.com
URL:https://everythingelko.com/event/elko-county-fair-3/
LOCATION:Elko\, Nevada
END:VEVENT
BEGIN:VEVENT
DTSTART;VALUE=DATE:20240920
DTEND;VALUE=DATE:20240923
DTSTAMP:20260423T230331
CREATED:20240828T103538Z
LAST-MODIFIED:20240828T103538Z
UID:18984-1726790400-1727049599@everythingelko.com
SUMMARY:Ruby Mountain Balloon Festival
DESCRIPTION:Ruby Mountain Balloon Festival \nFriday\, Sep. 20-Sunday\, Sep. 22 \nNearly 40 balloons hover over the majestic Ruby Mountains during a free festival the whole family will love. Take in the magic of a nighttime glow show\, rub shoulders with pilots and balloon crews\, enter your best balloon pics in the photo contest\, and more at this annual Elko event. This event takes place in Elko City Park on Friday and at the Spring Creek Sports Complex on Saturday and Sunday. For more information\, visit rubymountainballoons.com.
URL:https://everythingelko.com/event/ruby-mountain-balloon-festival-4/
LOCATION:Elko\, Nevada
END:VEVENT
BEGIN:VEVENT
DTSTART;TZID=UTC:20240920T063500
DTEND;TZID=UTC:20240920T074500
DTSTAMP:20260423T230331
CREATED:20240828T103630Z
LAST-MODIFIED:20240828T103630Z
UID:18986-1726814100-1726818300@everythingelko.com
SUMMARY:Sunrise Toastmasters on Zoom
DESCRIPTION:Sunrise Toastmasters on Zoom \nFriday\, Sep. 20\, 6:35-7:45am \nSunrise Toastmasters meets every Friday from 6:35-7:45 a.m.\, online via hybrid via Zoom or in person at 1795 Rubyview Dr Elko. Be our guest! Join a group of friendly folks who learn by doing to gain communication and leadership skills needed to achieve personal and professional goals. Contact us at elkosunrise.toastmastersclubs.org.
URL:https://everythingelko.com/event/sunrise-toastmasters-on-zoom-115/
LOCATION:Elko\, Nevada
END:VEVENT
BEGIN:VEVENT
DTSTART;TZID=UTC:20240920T190000
DTEND;TZID=UTC:20240921T210000
DTSTAMP:20260423T230331
CREATED:20240910T215031Z
LAST-MODIFIED:20240910T215031Z
UID:19042-1726858800-1726952400@everythingelko.com
SUMMARY:Stage Door Comedy Nights
DESCRIPTION:Stage Door Comedy Nights\nFriday\, September 20th and Saturday\, September 21st\, 7pm\nVisit the Stage Door Elko for two nights of comedy headlined by Steven Dente. Discounted presale tickets can be purchased now at stagedoorelko.com
URL:https://everythingelko.com/event/stage-door-comedy-nights/
LOCATION:Elko\, Nevada
END:VEVENT
END:VCALENDAR