BEGIN:VCALENDAR
VERSION:2.0
PRODID:-//Everything Elko - ECPv6.15.20//NONSGML v1.0//EN
CALSCALE:GREGORIAN
METHOD:PUBLISH
X-WR-CALNAME:Everything Elko
X-ORIGINAL-URL:https://everythingelko.com
X-WR-CALDESC:Events for Everything Elko
REFRESH-INTERVAL;VALUE=DURATION:PT1H
X-Robots-Tag:noindex
X-PUBLISHED-TTL:PT1H
BEGIN:VTIMEZONE
TZID:UTC
BEGIN:STANDARD
TZOFFSETFROM:+0000
TZOFFSETTO:+0000
TZNAME:UTC
DTSTART:19690101T000000
END:STANDARD
END:VTIMEZONE
BEGIN:VEVENT
DTSTART;TZID=UTC:20260423T230310
DTEND;TZID=UTC:20260417T074500
DTSTAMP:20260423T230310
CREATED:20260401T010825Z
LAST-MODIFIED:20260401T010825Z
UID:21092-0-1776411900@everythingelko.com
SUMMARY:Sunrise Toastmasters on Zoom
DESCRIPTION:Sunrise Toastmasters on Zoom \nFriday\, April 17\, 6:35-7:45AM \nFEAR of Snakes? FEAR of Heights? FEAR of Death!   No\, Americans’ number one fear is Speaking in Public!  Sunrise Toastmasters will help you overcome your fear of speaking in public through a proven step-by-step program of learning and practicing speaking in a safe environment with people just like you.  Communication is the key to success in the workplace\, in the home\, and in all life situations.  We meet every Friday at 6:35 a.m. to 7:45 a.m.\, ONLY on Zoom through the winter.  Contact George Kleeb 775.385.6114 or Helen Hankins 775.340.2031 or Pam Lattin 775.934.1934 for Zoom login information.
URL:https://everythingelko.com/event/sunrise-toastmasters-on-zoom-180/
LOCATION:Elko\, Nevada
END:VEVENT
BEGIN:VEVENT
DTSTART;VALUE=DATE:20240824
DTEND;VALUE=DATE:20240926
DTSTAMP:20260423T230310
CREATED:20240726T185735Z
LAST-MODIFIED:20240726T185735Z
UID:18824-1724457600-1727308799@everythingelko.com
SUMMARY:Elko County Fair
DESCRIPTION:Elko County Fair \nAugust 24-25\, 30-31\, Sep. 1 \nElko County Fairgrounds. \nwww.elkocountyfair.com
URL:https://everythingelko.com/event/elko-county-fair-3/
LOCATION:Elko\, Nevada
END:VEVENT
BEGIN:VEVENT
DTSTART;TZID=UTC:20240918T130000
DTEND;TZID=UTC:20240918T143000
DTSTAMP:20260423T230310
CREATED:20240828T005019Z
LAST-MODIFIED:20240828T005019Z
UID:18970-1726664400-1726669800@everythingelko.com
SUMMARY:Dementia Friendly Elko County Meeting
DESCRIPTION:Dementia Friendly Elko County Meeting \nWednesday\, Sep. 18\, 1-2:30pm \nDementia Friendly Elko County aims to cultivate and strengthen our community in becoming more respectful\, educated\, supportive\, and inclusive of people living with dementia and care partners. Everyone has a role in this effort! Please join us for our Community Group Meetings on the 3rd Wednesday of each month from 1:00 PM – 2:30 PM at the Terrace at Ruby View to share ideas and learn how you can become involved in this effort. For more information\, please reach out to Bradlyn Wissert at bwissert@unr.edu.
URL:https://everythingelko.com/event/dementia-friendly-elko-county-meeting-13/
LOCATION:Elko\, Nevada
END:VEVENT
BEGIN:VEVENT
DTSTART;TZID=UTC:20240918T173000
DTEND;TZID=UTC:20240918T180000
DTSTAMP:20260423T230310
CREATED:20240828T005051Z
LAST-MODIFIED:20240828T005051Z
UID:18972-1726680600-1726682400@everythingelko.com
SUMMARY:Table Talks
DESCRIPTION:Table Talks \nWednesday\, Sep. 18\, 5:30-6:00pm \nThe best conversations happen around a table. We invite you to join us from the comfort of your home for a round-table discussion regarding doTERRA essential oils. Bring your questions\, testimonials\, and join us in conversation. Learn what to do with what you have to get the best results. #doTERRA specific JOIN US every Wednesday at 5:30 PM (PST)\, 6:30 PM (MST)\, 7:30 PM (CST) on Zoom. For more information\, CALL Indigo at 775-778-9600 located at 386 5th Street\, Downtown\, Elko.
URL:https://everythingelko.com/event/table-talks-24/
LOCATION:Elko\, Nevada
END:VEVENT
BEGIN:VEVENT
DTSTART;TZID=UTC:20240918T180000
DTEND;TZID=UTC:20240918T200000
DTSTAMP:20260423T230310
CREATED:20240828T005126Z
LAST-MODIFIED:20240828T005126Z
UID:18974-1726682400-1726689600@everythingelko.com
SUMMARY:Southwind
DESCRIPTION:Southwind \nWednesday\, Sep. 18\, 6-8:00pm \nLocal favorites Southwind bring Celtic\, western\, and contemporary toe-tappin’ fiddle tunes to the Pioneer Saloon. Free. 501 Railroad St.\, Elko. 775-738-7508.
URL:https://everythingelko.com/event/southwind-22/
LOCATION:Elko\, Nevada
END:VEVENT
BEGIN:VEVENT
DTSTART;TZID=UTC:20240918T183000
DTEND;TZID=UTC:20240918T193000
DTSTAMP:20260423T230310
CREATED:20240828T005215Z
LAST-MODIFIED:20240828T005215Z
UID:18976-1726684200-1726687800@everythingelko.com
SUMMARY:Ruby Mountain Toastmasters
DESCRIPTION:Ruby Mountain Toastmasters \nWednesday\, Sep. 18 at 6:30-7:30pm \nToastmasters meets every Wednesday from 6:30-7:30 pm via Zoom. Our club aims to help members to develop and improve their public speaking and leadership skills in a supportive environment. Meetings are open to all interested parties. Please refer to http://4169.toastmastersclubs.org/ or call 931-338-5975 for more information.
URL:https://everythingelko.com/event/ruby-mountain-toastmasters-117/
LOCATION:Elko\, Nevada
END:VEVENT
END:VCALENDAR