BEGIN:VCALENDAR
VERSION:2.0
PRODID:-//Everything Elko - ECPv6.15.20//NONSGML v1.0//EN
CALSCALE:GREGORIAN
METHOD:PUBLISH
X-ORIGINAL-URL:https://everythingelko.com
X-WR-CALDESC:Events for Everything Elko
REFRESH-INTERVAL;VALUE=DURATION:PT1H
X-Robots-Tag:noindex
X-PUBLISHED-TTL:PT1H
BEGIN:VTIMEZONE
TZID:UTC
BEGIN:STANDARD
TZOFFSETFROM:+0000
TZOFFSETTO:+0000
TZNAME:UTC
DTSTART:19690101T000000
END:STANDARD
END:VTIMEZONE
BEGIN:VEVENT
DTSTART;TZID=UTC:20260423T231316
DTEND;TZID=UTC:20260417T074500
DTSTAMP:20260423T231316
CREATED:20260401T010825Z
LAST-MODIFIED:20260401T010825Z
UID:21092-0-1776411900@everythingelko.com
SUMMARY:Sunrise Toastmasters on Zoom
DESCRIPTION:Sunrise Toastmasters on Zoom \nFriday\, April 17\, 6:35-7:45AM \nFEAR of Snakes? FEAR of Heights? FEAR of Death!   No\, Americans’ number one fear is Speaking in Public!  Sunrise Toastmasters will help you overcome your fear of speaking in public through a proven step-by-step program of learning and practicing speaking in a safe environment with people just like you.  Communication is the key to success in the workplace\, in the home\, and in all life situations.  We meet every Friday at 6:35 a.m. to 7:45 a.m.\, ONLY on Zoom through the winter.  Contact George Kleeb 775.385.6114 or Helen Hankins 775.340.2031 or Pam Lattin 775.934.1934 for Zoom login information.
URL:https://everythingelko.com/event/sunrise-toastmasters-on-zoom-180/
LOCATION:Elko\, Nevada
END:VEVENT
BEGIN:VEVENT
DTSTART;VALUE=DATE:20240816
DTEND;VALUE=DATE:20240918
DTSTAMP:20260423T231316
CREATED:20240726T181251Z
LAST-MODIFIED:20240726T181251Z
UID:18706-1723766400-1726617599@everythingelko.com
SUMMARY:Carlin Sho ‘N’ Shine & Art in the Park
DESCRIPTION:Carlin Sho ‘N’ Shine & Art in the Park \nAugust 16 & 17\nCarlin City Park
URL:https://everythingelko.com/event/carlin-sho-n-shine-art-in-the-park/
LOCATION:Carlin\, NV
END:VEVENT
BEGIN:VEVENT
DTSTART;VALUE=DATE:20240816
DTEND;VALUE=DATE:20240918
DTSTAMP:20260423T231316
CREATED:20240726T181426Z
LAST-MODIFIED:20240726T181426Z
UID:18709-1723766400-1726617599@everythingelko.com
SUMMARY:Carlin Ranch Hand Rodeo
DESCRIPTION:Carlin Ranch Hand Rodeo \nAugust 16 & 17 \nCarlin Equestrian Park\nwww.outlawbroncs.com
URL:https://everythingelko.com/event/carlin-ranch-hand-rodeo/
LOCATION:Carlin\, NV
END:VEVENT
BEGIN:VEVENT
DTSTART;VALUE=DATE:20240824
DTEND;VALUE=DATE:20240926
DTSTAMP:20260423T231316
CREATED:20240726T185735Z
LAST-MODIFIED:20240726T185735Z
UID:18824-1724457600-1727308799@everythingelko.com
SUMMARY:Elko County Fair
DESCRIPTION:Elko County Fair \nAugust 24-25\, 30-31\, Sep. 1 \nElko County Fairgrounds. \nwww.elkocountyfair.com
URL:https://everythingelko.com/event/elko-county-fair-3/
LOCATION:Elko\, Nevada
END:VEVENT
BEGIN:VEVENT
DTSTART;TZID=UTC:20240917T053000
DTEND;TZID=UTC:20240917T183000
DTSTAMP:20260423T231316
CREATED:20240828T004825Z
LAST-MODIFIED:20240828T004825Z
UID:18964-1726551000-1726597800@everythingelko.com
SUMMARY:Carlin Historical Society Meeting-Carlin
DESCRIPTION:Carlin Historical Society Meeting-Carlin \nTuesday\, September 17\, 5:30-6:30pm \nThe Carlin Historical Society and Museum holds its monthly meeting on the 3rd Tuesday of each month at 5:30 PM. The meeting is held in the Carlin Museum at 718 Cedar St Carlin\, NV. Those who are interested in preserving local history are welcome to attend.
URL:https://everythingelko.com/event/carlin-historical-society-meeting-carlin-7/
LOCATION:Carlin\, NV
END:VEVENT
BEGIN:VEVENT
DTSTART;TZID=UTC:20240917T173000
DTEND;TZID=UTC:20240917T180000
DTSTAMP:20260423T231316
CREATED:20240828T004746Z
LAST-MODIFIED:20240828T004746Z
UID:18962-1726594200-1726596000@everythingelko.com
SUMMARY:Creative Ways to Use doTerra Oils
DESCRIPTION:Creative Ways to Use doTerra Oils \nTuesday\, Sep. 17\, 5:30-6:00pm \n#dontletyourOILScollectdust – Take Your Knowledge Beyond the Basics and Discover what doTERRA has to offer. Learn More from A-Z. We LOVE our essential oils and want to empower you with the best and most effective ways to use them. #doTERRA specific JOIN US every Tuesday at 5:30 PST\, 6:30 MST\, 7:30 CST\, 8:30 EST For more information\, CALL Indigo at 775-778-9660 located at 386 5th Street\, Downtown\, Elko.
URL:https://everythingelko.com/event/creative-ways-to-use-doterra-oils-116/
LOCATION:Elko\, Nevada
END:VEVENT
BEGIN:VEVENT
DTSTART;TZID=UTC:20240917T180000
DTEND;TZID=UTC:20240917T190000
DTSTAMP:20260423T231316
CREATED:20240828T004858Z
LAST-MODIFIED:20240828T004858Z
UID:18966-1726596000-1726599600@everythingelko.com
SUMMARY:NAMI Family Support Group 
DESCRIPTION:NAMI Family Support Group  \nTuesday\, Sep. 17\, 6-7:00pm\nFor adult loved ones of people with mental health conditions. Led by family members of people with mental health conditions. Meets the 3rd Tuesday of every month at 6:00pm via Zoom. Contact Haley\, 775-299-2837 with questions and to get involved.
URL:https://everythingelko.com/event/nami-family-support-group-22/
LOCATION:Elko\, Nevada
END:VEVENT
BEGIN:VEVENT
DTSTART;TZID=UTC:20240917T180000
DTEND;TZID=UTC:20240917T190000
DTSTAMP:20260423T231316
CREATED:20240828T004933Z
LAST-MODIFIED:20240828T004933Z
UID:18968-1726596000-1726599600@everythingelko.com
SUMMARY:Al-Anon Hybrid Meetings - Spring Creek
DESCRIPTION:Al-Anon Hybrid Meetings – Spring Creek \nTuesday\, September 17\, 6-7:00pm \nAl-Anon Hybrid Meetings (choose in-person or virtual).  Spring Creek Step Study Group meets Tuesdays from 6-7 p.m. at the Spring Creek Baptist Church\, 360 Spring Creek Parkway.  If you or someone you know is worried about a family member or friend’s drinking problem\, Al-Anon group offers mutual support by sharing experiences\, strengths\, and hope. Please call 775-843-1710 for more information.
URL:https://everythingelko.com/event/al-anon-hybrid-meetings-spring-creek-23/
LOCATION:Spring Creek\, NV
END:VEVENT
END:VCALENDAR