BEGIN:VCALENDAR
VERSION:2.0
PRODID:-//Everything Elko - ECPv6.15.20//NONSGML v1.0//EN
CALSCALE:GREGORIAN
METHOD:PUBLISH
X-ORIGINAL-URL:https://everythingelko.com
X-WR-CALDESC:Events for Everything Elko
REFRESH-INTERVAL;VALUE=DURATION:PT1H
X-Robots-Tag:noindex
X-PUBLISHED-TTL:PT1H
BEGIN:VTIMEZONE
TZID:UTC
BEGIN:STANDARD
TZOFFSETFROM:+0000
TZOFFSETTO:+0000
TZNAME:UTC
DTSTART:19690101T000000
END:STANDARD
END:VTIMEZONE
BEGIN:VEVENT
DTSTART;TZID=UTC:20260423T232138
DTEND;TZID=UTC:20260417T074500
DTSTAMP:20260423T232138
CREATED:20260401T010825Z
LAST-MODIFIED:20260401T010825Z
UID:21092-0-1776411900@everythingelko.com
SUMMARY:Sunrise Toastmasters on Zoom
DESCRIPTION:Sunrise Toastmasters on Zoom \nFriday\, April 17\, 6:35-7:45AM \nFEAR of Snakes? FEAR of Heights? FEAR of Death!   No\, Americans’ number one fear is Speaking in Public!  Sunrise Toastmasters will help you overcome your fear of speaking in public through a proven step-by-step program of learning and practicing speaking in a safe environment with people just like you.  Communication is the key to success in the workplace\, in the home\, and in all life situations.  We meet every Friday at 6:35 a.m. to 7:45 a.m.\, ONLY on Zoom through the winter.  Contact George Kleeb 775.385.6114 or Helen Hankins 775.340.2031 or Pam Lattin 775.934.1934 for Zoom login information.
URL:https://everythingelko.com/event/sunrise-toastmasters-on-zoom-180/
LOCATION:Elko\, Nevada
END:VEVENT
BEGIN:VEVENT
DTSTART;VALUE=DATE:20240816
DTEND;VALUE=DATE:20240918
DTSTAMP:20260423T232138
CREATED:20240726T181251Z
LAST-MODIFIED:20240726T181251Z
UID:18706-1723766400-1726617599@everythingelko.com
SUMMARY:Carlin Sho ‘N’ Shine & Art in the Park
DESCRIPTION:Carlin Sho ‘N’ Shine & Art in the Park \nAugust 16 & 17\nCarlin City Park
URL:https://everythingelko.com/event/carlin-sho-n-shine-art-in-the-park/
LOCATION:Carlin\, NV
END:VEVENT
BEGIN:VEVENT
DTSTART;VALUE=DATE:20240816
DTEND;VALUE=DATE:20240918
DTSTAMP:20260423T232138
CREATED:20240726T181426Z
LAST-MODIFIED:20240726T181426Z
UID:18709-1723766400-1726617599@everythingelko.com
SUMMARY:Carlin Ranch Hand Rodeo
DESCRIPTION:Carlin Ranch Hand Rodeo \nAugust 16 & 17 \nCarlin Equestrian Park\nwww.outlawbroncs.com
URL:https://everythingelko.com/event/carlin-ranch-hand-rodeo/
LOCATION:Carlin\, NV
END:VEVENT
BEGIN:VEVENT
DTSTART;VALUE=DATE:20240824
DTEND;VALUE=DATE:20240926
DTSTAMP:20260423T232138
CREATED:20240726T185735Z
LAST-MODIFIED:20240726T185735Z
UID:18824-1724457600-1727308799@everythingelko.com
SUMMARY:Elko County Fair
DESCRIPTION:Elko County Fair \nAugust 24-25\, 30-31\, Sep. 1 \nElko County Fairgrounds. \nwww.elkocountyfair.com
URL:https://everythingelko.com/event/elko-county-fair-3/
LOCATION:Elko\, Nevada
END:VEVENT
BEGIN:VEVENT
DTSTART;TZID=UTC:20240912T080000
DTEND;TZID=UTC:20240912T210000
DTSTAMP:20260423T232138
CREATED:20240827T221406Z
LAST-MODIFIED:20240827T221406Z
UID:18946-1726128000-1726174800@everythingelko.com
SUMMARY:Business Before Hours
DESCRIPTION:Business Before Hours \nThursday\, Sep. 12\, 8-9:00am \nPlease join the Elko Area Chamber for August’s Business Before Hours event. Business Before Hours will be held at University of Nevada Cooperative Extension – Elko County\, 701 Walnut St. Elko. Business Before Hours is free and open to the public. For questions\, please contact 775-738-7135.
URL:https://everythingelko.com/event/business-before-hours-31/
LOCATION:Elko\, Nevada
END:VEVENT
BEGIN:VEVENT
DTSTART;TZID=UTC:20240912T090000
DTEND;TZID=UTC:20240912T103000
DTSTAMP:20260423T232138
CREATED:20240827T221437Z
LAST-MODIFIED:20240827T221437Z
UID:18948-1726131600-1726137000@everythingelko.com
SUMMARY:TOPS Club
DESCRIPTION:TOPS Club \nThursday\, Sep. 12\, 9-10:30am \nTOPS (Take Off Pounds Sensibly) invites you to join us in a supportive atmosphere for weight loss and healthy living\, at the Terrace Senior Center\, 1795 Ruby View Drive\, from 9:00 to 10:30. You may attend one meeting as a visitor. All ages are welcome\, from 8 up. Call Sharon at 775-385-7508 for more information. Please leave a message.
URL:https://everythingelko.com/event/tops-club-27/
LOCATION:Elko\, Nevada
END:VEVENT
BEGIN:VEVENT
DTSTART;TZID=UTC:20240912T180000
DTEND;TZID=UTC:20240912T200000
DTSTAMP:20260423T232138
CREATED:20240827T221509Z
LAST-MODIFIED:20240827T221509Z
UID:18950-1726164000-1726171200@everythingelko.com
SUMMARY:Ruby Mountain Squares
DESCRIPTION:Ruby Mountain Squares \nThursday\, Sep. 12\, 6-8:00pm \nLessons and dances every Thursday\, 6-8 at the Elko Girl Scout House\, 561 VFW Dr. Call or text 775-934-6225.
URL:https://everythingelko.com/event/ruby-mountain-squares-37/
LOCATION:Elko\, Nevada
END:VEVENT
BEGIN:VEVENT
DTSTART;TZID=UTC:20240912T180000
DTEND;TZID=UTC:20240912T210000
DTSTAMP:20260423T232138
CREATED:20240827T221542Z
LAST-MODIFIED:20240827T221542Z
UID:18952-1726164000-1726174800@everythingelko.com
SUMMARY:Celebrate Recovery
DESCRIPTION:Celebrate Recovery \nThursday\, Sep. 12\, 6-9:00pm \nCelebrate Recovery at Calvary Baptist Church meets at 577 Walnut Street in Elko ever Thursday at 6 p.m. This is a Bible Based 12 Step Recovery Program meeting at night. Return to Hope. Join us from 6:00-9:00 p.m. to Rebuild\, Renew\, and Restore that which was lost. Visit calvaryelko.org/celebraterecovery for more information.
URL:https://everythingelko.com/event/celebrate-recovery-140/
LOCATION:Elko\, Nevada
END:VEVENT
END:VCALENDAR