BEGIN:VCALENDAR
VERSION:2.0
PRODID:-//Everything Elko - ECPv6.15.20//NONSGML v1.0//EN
CALSCALE:GREGORIAN
METHOD:PUBLISH
X-ORIGINAL-URL:https://everythingelko.com
X-WR-CALDESC:Events for Everything Elko
REFRESH-INTERVAL;VALUE=DURATION:PT1H
X-Robots-Tag:noindex
X-PUBLISHED-TTL:PT1H
BEGIN:VTIMEZONE
TZID:UTC
BEGIN:STANDARD
TZOFFSETFROM:+0000
TZOFFSETTO:+0000
TZNAME:UTC
DTSTART:19690101T000000
END:STANDARD
END:VTIMEZONE
BEGIN:VEVENT
DTSTART;TZID=UTC:20260423T231318
DTEND;TZID=UTC:20260417T074500
DTSTAMP:20260423T231318
CREATED:20260401T010825Z
LAST-MODIFIED:20260401T010825Z
UID:21092-0-1776411900@everythingelko.com
SUMMARY:Sunrise Toastmasters on Zoom
DESCRIPTION:Sunrise Toastmasters on Zoom \nFriday\, April 17\, 6:35-7:45AM \nFEAR of Snakes? FEAR of Heights? FEAR of Death!   No\, Americans’ number one fear is Speaking in Public!  Sunrise Toastmasters will help you overcome your fear of speaking in public through a proven step-by-step program of learning and practicing speaking in a safe environment with people just like you.  Communication is the key to success in the workplace\, in the home\, and in all life situations.  We meet every Friday at 6:35 a.m. to 7:45 a.m.\, ONLY on Zoom through the winter.  Contact George Kleeb 775.385.6114 or Helen Hankins 775.340.2031 or Pam Lattin 775.934.1934 for Zoom login information.
URL:https://everythingelko.com/event/sunrise-toastmasters-on-zoom-180/
LOCATION:Elko\, Nevada
END:VEVENT
BEGIN:VEVENT
DTSTART;VALUE=DATE:20240816
DTEND;VALUE=DATE:20240918
DTSTAMP:20260423T231318
CREATED:20240726T181251Z
LAST-MODIFIED:20240726T181251Z
UID:18706-1723766400-1726617599@everythingelko.com
SUMMARY:Carlin Sho ‘N’ Shine & Art in the Park
DESCRIPTION:Carlin Sho ‘N’ Shine & Art in the Park \nAugust 16 & 17\nCarlin City Park
URL:https://everythingelko.com/event/carlin-sho-n-shine-art-in-the-park/
LOCATION:Carlin\, NV
END:VEVENT
BEGIN:VEVENT
DTSTART;VALUE=DATE:20240816
DTEND;VALUE=DATE:20240918
DTSTAMP:20260423T231318
CREATED:20240726T181426Z
LAST-MODIFIED:20240726T181426Z
UID:18709-1723766400-1726617599@everythingelko.com
SUMMARY:Carlin Ranch Hand Rodeo
DESCRIPTION:Carlin Ranch Hand Rodeo \nAugust 16 & 17 \nCarlin Equestrian Park\nwww.outlawbroncs.com
URL:https://everythingelko.com/event/carlin-ranch-hand-rodeo/
LOCATION:Carlin\, NV
END:VEVENT
BEGIN:VEVENT
DTSTART;VALUE=DATE:20240824
DTEND;VALUE=DATE:20240926
DTSTAMP:20260423T231318
CREATED:20240726T185735Z
LAST-MODIFIED:20240726T185735Z
UID:18824-1724457600-1727308799@everythingelko.com
SUMMARY:Elko County Fair
DESCRIPTION:Elko County Fair \nAugust 24-25\, 30-31\, Sep. 1 \nElko County Fairgrounds. \nwww.elkocountyfair.com
URL:https://everythingelko.com/event/elko-county-fair-3/
LOCATION:Elko\, Nevada
END:VEVENT
BEGIN:VEVENT
DTSTART;VALUE=DATE:20240906
DTEND;VALUE=DATE:20240908
DTSTAMP:20260423T231318
CREATED:20240827T220243Z
LAST-MODIFIED:20240827T220243Z
UID:18925-1725580800-1725753599@everythingelko.com
SUMMARY:Elko Rides & Rods Classic Car Show
DESCRIPTION:Elko Rides & Rods Classic Car Show \nFriday\, Sep. 6-Saturday\, Sep. 7 \nVisit the local car and motorcycle show located in Elko City Park at 1467 Idaho St. This event is free and open to the public for viewing. For more information contact Ridesandrodselko@yahoo.com
URL:https://everythingelko.com/event/elko-rides-rods-classic-car-show/
LOCATION:Elko\, Nevada
END:VEVENT
END:VCALENDAR