BEGIN:VCALENDAR
VERSION:2.0
PRODID:-//Everything Elko - ECPv6.15.20//NONSGML v1.0//EN
CALSCALE:GREGORIAN
METHOD:PUBLISH
X-ORIGINAL-URL:https://everythingelko.com
X-WR-CALDESC:Events for Everything Elko
REFRESH-INTERVAL;VALUE=DURATION:PT1H
X-Robots-Tag:noindex
X-PUBLISHED-TTL:PT1H
BEGIN:VTIMEZONE
TZID:UTC
BEGIN:STANDARD
TZOFFSETFROM:+0000
TZOFFSETTO:+0000
TZNAME:UTC
DTSTART:19690101T000000
END:STANDARD
END:VTIMEZONE
BEGIN:VEVENT
DTSTART;TZID=UTC:20260423T063348
DTEND;TZID=UTC:20260417T074500
DTSTAMP:20260423T063348
CREATED:20260401T010825Z
LAST-MODIFIED:20260401T010825Z
UID:21092-0-1776411900@everythingelko.com
SUMMARY:Sunrise Toastmasters on Zoom
DESCRIPTION:Sunrise Toastmasters on Zoom \nFriday\, April 17\, 6:35-7:45AM \nFEAR of Snakes? FEAR of Heights? FEAR of Death!   No\, Americans’ number one fear is Speaking in Public!  Sunrise Toastmasters will help you overcome your fear of speaking in public through a proven step-by-step program of learning and practicing speaking in a safe environment with people just like you.  Communication is the key to success in the workplace\, in the home\, and in all life situations.  We meet every Friday at 6:35 a.m. to 7:45 a.m.\, ONLY on Zoom through the winter.  Contact George Kleeb 775.385.6114 or Helen Hankins 775.340.2031 or Pam Lattin 775.934.1934 for Zoom login information.
URL:https://everythingelko.com/event/sunrise-toastmasters-on-zoom-180/
LOCATION:Elko\, Nevada
END:VEVENT
BEGIN:VEVENT
DTSTART;VALUE=DATE:20220826
DTEND;VALUE=DATE:20220906
DTSTAMP:20260423T063348
CREATED:20220725T203707Z
LAST-MODIFIED:20220725T203707Z
UID:12792-1661472000-1662422399@everythingelko.com
SUMMARY:Elko County Fair and Horse Racing
DESCRIPTION:Elko County Fair and Horse Racing \nAugust 26 – September 5 \nThe Elko County Fair\, in its 101st consecutive fair\, has been mixing families and fun. With several different events and a variety of entertainment\, there’s something for everyone to enjoy at the fair. We have everything from crafts and critters\, to live music and fair food\, horse racing and the Stock Horse Show\, and so much more! You won’t want to miss the funfest\, so join us! Come finish out your summer with your friends and family at the Elko County Fair – Labor Day Weekend. Visit https://elkocountyfair.com/ for more details and the full schedule of events.
URL:https://everythingelko.com/event/elko-county-fair-and-horse-racing/
END:VEVENT
BEGIN:VEVENT
DTSTART;TZID=UTC:20220827T160000
DTEND;TZID=UTC:20220827T200000
DTSTAMP:20260423T063348
CREATED:20220725T203957Z
LAST-MODIFIED:20220725T203957Z
UID:12800-1661616000-1661630400@everythingelko.com
SUMMARY:T-Rex Races-Elko\, NV
DESCRIPTION:T-Rex Races-Elko\, NV \nSaturday August 27th 4 p.m. \nNEW to this year’s Elko County Fair\, Inflatable T-Rex Races held on August 27th starting around 4 PM at the fairgrounds! The T-Rex races will be like that of the horse races already happening at the Elko County Fair this August where participants will be placed in the T-Rex costume\, shown in front of the grandstands\, put in the starting gates\, then it’s off to the races for the winner! Bring your posters and fancy hats to cheer on your friends and neighbors who are running and have a good laugh at the new Trex Races at this year’s fair! Learn more on facebook @FairTRexRaces or email FairTRexRaces@gmail.com.
URL:https://everythingelko.com/event/t-rex-races-elko-nv/
END:VEVENT
END:VCALENDAR