BEGIN:VCALENDAR
VERSION:2.0
PRODID:-//Everything Elko - ECPv6.15.20//NONSGML v1.0//EN
CALSCALE:GREGORIAN
METHOD:PUBLISH
X-ORIGINAL-URL:https://everythingelko.com
X-WR-CALDESC:Events for Everything Elko
REFRESH-INTERVAL;VALUE=DURATION:PT1H
X-Robots-Tag:noindex
X-PUBLISHED-TTL:PT1H
BEGIN:VTIMEZONE
TZID:UTC
BEGIN:STANDARD
TZOFFSETFROM:+0000
TZOFFSETTO:+0000
TZNAME:UTC
DTSTART:19690101T000000
END:STANDARD
END:VTIMEZONE
BEGIN:VEVENT
DTSTART;TZID=UTC:20260423T044507
DTEND;TZID=UTC:20260417T074500
DTSTAMP:20260423T044507
CREATED:20260401T010825Z
LAST-MODIFIED:20260401T010825Z
UID:21092-0-1776411900@everythingelko.com
SUMMARY:Sunrise Toastmasters on Zoom
DESCRIPTION:Sunrise Toastmasters on Zoom \nFriday\, April 17\, 6:35-7:45AM \nFEAR of Snakes? FEAR of Heights? FEAR of Death!   No\, Americans’ number one fear is Speaking in Public!  Sunrise Toastmasters will help you overcome your fear of speaking in public through a proven step-by-step program of learning and practicing speaking in a safe environment with people just like you.  Communication is the key to success in the workplace\, in the home\, and in all life situations.  We meet every Friday at 6:35 a.m. to 7:45 a.m.\, ONLY on Zoom through the winter.  Contact George Kleeb 775.385.6114 or Helen Hankins 775.340.2031 or Pam Lattin 775.934.1934 for Zoom login information.
URL:https://everythingelko.com/event/sunrise-toastmasters-on-zoom-180/
LOCATION:Elko\, Nevada
END:VEVENT
BEGIN:VEVENT
DTSTART;TZID=UTC:20220812T063500
DTEND;TZID=UTC:20220812T074500
DTSTAMP:20260423T044507
CREATED:20220725T165820Z
LAST-MODIFIED:20220725T165820Z
UID:12730-1660286100-1660290300@everythingelko.com
SUMMARY:Sunrise Toastmasters on Zoom – Elko\, NV
DESCRIPTION:Sunrise Toastmasters on Zoom – Elko\, NV \nFriday\, August 12\, 6:35 – 7:45 AM \nSunrise Toastmasters meets online via Zoom and is expecting to go hybrid soon! Be our guest! Join a group of friendly folks who learn by doing to gain communication and leadership skills needed to achieve personal and professional goals. Contact us at sunrisetoastmasterselko@gmail.com or on social media @SunriseToastmasters378
URL:https://everythingelko.com/event/sunrise-toastmasters-on-zoom-elko-nv-58/
END:VEVENT
BEGIN:VEVENT
DTSTART;TZID=UTC:20220812T100000
DTEND;TZID=UTC:20220812T110000
DTSTAMP:20260423T044507
CREATED:20220725T165856Z
LAST-MODIFIED:20220725T165856Z
UID:12732-1660298400-1660302000@everythingelko.com
SUMMARY:Northern Nevada Autism Network - Daytime Support Group - Elko\, NV
DESCRIPTION:Northern Nevada Autism Network – Daytime Support Group – Elko\, NV \nFriday\, August 12 from 10:00 – 11:00am \nOur meetings are held at Sierra Java at 673 Cimarron Way in Elko. These meetings are held the 2nd Friday of each month from 10am-11am. The goal of NNAN is to increase autism awareness and access to treatment. We believe Elko County’s communities and schools are healthier when children with autism have the benefit of early comprehensive treatment. At our monthly meetings parent and grandparents can meet and talk. More info: www.nnan.org.
URL:https://everythingelko.com/event/northern-nevada-autism-network-daytime-support-group-elko-nv-38/
END:VEVENT
BEGIN:VEVENT
DTSTART;TZID=UTC:20220812T173000
DTEND;TZID=UTC:20220812T193000
DTSTAMP:20260423T044508
CREATED:20220725T165929Z
LAST-MODIFIED:20220725T165929Z
UID:12734-1660325400-1660332600@everythingelko.com
SUMMARY:Cool Canyon Evening – Lamoille\, NV
DESCRIPTION:Cool Canyon Evening – Lamoille\, NV \nFriday Aug 12 at 5:30 \nCool Canyon Evening at Powerhouse Group Picnic Pavilion in Lamoille Canyon.  Native Plants and their Historical Uses. Presented by Sierra Sampson\, USFS Botanist.  Gate opens at 5:30 pm. Talk starts at 6 pm.  Come early with a picnic dinner.  Event ends with a campfire and S’Mores.  Hosted by Friends of the Ruby Mountains. Find them on FB – @friendsoftherubymountains.
URL:https://everythingelko.com/event/cool-canyon-evening-lamoille-nv-2/
END:VEVENT
BEGIN:VEVENT
DTSTART;TZID=UTC:20220812T180000
DTEND;TZID=UTC:20220812T210000
DTSTAMP:20260423T044508
CREATED:20220725T170007Z
LAST-MODIFIED:20220725T170007Z
UID:12736-1660327200-1660338000@everythingelko.com
SUMMARY:Celebrate Recovery
DESCRIPTION:Celebrate Recovery \nFriday\, August 12 from 6-9 p.m. \nCelebrate Recovery is a Bible Based 12 Step Recovery Program meeting at 740 W. Sage St every Friday night. Return to Hope. Join us from 6:00-9:00 p.m. to Rebuild\, Renew\, and Restore that which was lost. Visit calvaryelko.org/celebraterecovery for more information.
URL:https://everythingelko.com/event/celebrate-recovery-75/
END:VEVENT
BEGIN:VEVENT
DTSTART;TZID=UTC:20220812T203000
DTEND;TZID=UTC:20220812T220000
DTSTAMP:20260423T044508
CREATED:20220728T104050Z
LAST-MODIFIED:20220728T104050Z
UID:12832-1660336200-1660341600@everythingelko.com
SUMMARY:Movie in the Park - Back to the Future
DESCRIPTION:Friday\, August 12th at dusk: Back to the Future (1985) in the City Park behind the Museum. Bring your lawn chairs\, blankets\, snacks\, and the whole family for a great classic film in the park.
URL:https://everythingelko.com/event/movie-in-the-park-back-to-the-future/
END:VEVENT
END:VCALENDAR